BEGIN:VCALENDAR
VERSION:2.0
PRODID:-//Malvern Family History Society - ECPv6.15.20//NONSGML v1.0//EN
CALSCALE:GREGORIAN
METHOD:PUBLISH
X-ORIGINAL-URL:https://mfhs.org.uk
X-WR-CALDESC:Events for Malvern Family History Society
REFRESH-INTERVAL;VALUE=DURATION:PT1H
X-Robots-Tag:noindex
X-PUBLISHED-TTL:PT1H
BEGIN:VTIMEZONE
TZID:Europe/London
BEGIN:DAYLIGHT
TZOFFSETFROM:+0000
TZOFFSETTO:+0100
TZNAME:BST
DTSTART:20180325T010000
END:DAYLIGHT
BEGIN:STANDARD
TZOFFSETFROM:+0100
TZOFFSETTO:+0000
TZNAME:GMT
DTSTART:20181028T010000
END:STANDARD
BEGIN:DAYLIGHT
TZOFFSETFROM:+0000
TZOFFSETTO:+0100
TZNAME:BST
DTSTART:20190331T010000
END:DAYLIGHT
BEGIN:STANDARD
TZOFFSETFROM:+0100
TZOFFSETTO:+0000
TZNAME:GMT
DTSTART:20191027T010000
END:STANDARD
BEGIN:DAYLIGHT
TZOFFSETFROM:+0000
TZOFFSETTO:+0100
TZNAME:BST
DTSTART:20200329T010000
END:DAYLIGHT
BEGIN:STANDARD
TZOFFSETFROM:+0100
TZOFFSETTO:+0000
TZNAME:GMT
DTSTART:20201025T010000
END:STANDARD
BEGIN:DAYLIGHT
TZOFFSETFROM:+0000
TZOFFSETTO:+0100
TZNAME:BST
DTSTART:20210328T010000
END:DAYLIGHT
BEGIN:STANDARD
TZOFFSETFROM:+0100
TZOFFSETTO:+0000
TZNAME:GMT
DTSTART:20211031T010000
END:STANDARD
BEGIN:DAYLIGHT
TZOFFSETFROM:+0000
TZOFFSETTO:+0100
TZNAME:BST
DTSTART:20220327T010000
END:DAYLIGHT
BEGIN:STANDARD
TZOFFSETFROM:+0100
TZOFFSETTO:+0000
TZNAME:GMT
DTSTART:20221030T010000
END:STANDARD
BEGIN:DAYLIGHT
TZOFFSETFROM:+0000
TZOFFSETTO:+0100
TZNAME:BST
DTSTART:20230326T010000
END:DAYLIGHT
BEGIN:STANDARD
TZOFFSETFROM:+0100
TZOFFSETTO:+0000
TZNAME:GMT
DTSTART:20231029T010000
END:STANDARD
END:VTIMEZONE
BEGIN:VEVENT
DTSTART;TZID=Europe/London:20220202T193000
DTEND;TZID=Europe/London:20220202T210000
DTSTAMP:20260419T211037
CREATED:20211012T085051Z
LAST-MODIFIED:20220129T093901Z
UID:4030-1643830200-1643835600@mfhs.org.uk
SUMMARY:Lest we forget: Worcestershire war memorials
DESCRIPTION:A talk by Sandra Taylor \nWith no grave to visit. War memorials were the focal point for remembering loved ones and their sacrifice. Lest We Forget is a talk based on Worcestershire War Memorials and the casualties commemorated on them. \n\nThe link to the meeting will also be shown here when you’re logged in.
URL:https://mfhs.org.uk/event/lest-we-forget-worcestershire-war-memorials/
LOCATION:Online
CATEGORIES:Meetings
END:VEVENT
BEGIN:VEVENT
DTSTART;TZID=Europe/London:20220105T193000
DTEND;TZID=Europe/London:20220105T210000
DTSTAMP:20260419T211037
CREATED:20211012T084934Z
LAST-MODIFIED:20220105T095308Z
UID:4028-1641411000-1641416400@mfhs.org.uk
SUMMARY:A grandmother’s legacy: the memsahibs and their servants
DESCRIPTION:A talk by Jenny Mallin \nJenny’s fascinating account of the young Englishwomen who travelled to India and their households. \n\nThe link to the meeting will also be shown here when you’re logged in.
URL:https://mfhs.org.uk/event/a-grandmothers-legacy-the-memsahibs-and-their-servants/
LOCATION:Online
CATEGORIES:Meetings
END:VEVENT
BEGIN:VEVENT
DTSTART;TZID=Europe/London:20211201T193000
DTEND;TZID=Europe/London:20211201T210000
DTSTAMP:20260419T211037
CREATED:20201218T171909Z
LAST-MODIFIED:20211129T094144Z
UID:3646-1638387000-1638392400@mfhs.org.uk
SUMMARY:Xmas Past - Members' Evening
DESCRIPTION:Short talks by some of our members \n\nThe link to the meeting will also be shown here when you’re logged in.
URL:https://mfhs.org.uk/event/xmas-past-members-evening/
LOCATION:Online
CATEGORIES:Meetings
END:VEVENT
BEGIN:VEVENT
DTSTART;TZID=Europe/London:20211103T193000
DTEND;TZID=Europe/London:20211103T210000
DTSTAMP:20260419T211037
CREATED:20201218T171741Z
LAST-MODIFIED:20211101T094011Z
UID:3644-1635967800-1635973200@mfhs.org.uk
SUMMARY:Putting our history together
DESCRIPTION:We hope you will join us for this month’s online meeting in which our speaker\, Avril Rowlands\, will talk about how to write about family history in interesting ways. As we all have so much knowledge to pass onto our descendants\, this should be a very valuable talk for everyone! \nAfter a career in the BBC\, she left in order to concentrate on writing and running training courses in aspects of television production. Her writing has been mainly for children\, with over forty published books\, many of them selling worldwide. She has also written for television and the stage and produced and directed for television. \n\nThe link to the meeting will also be shown here when you’re logged in.
URL:https://mfhs.org.uk/event/putting-our-history-together/
LOCATION:Online
CATEGORIES:Meetings
END:VEVENT
BEGIN:VEVENT
DTSTART;TZID=Europe/London:20211006T193000
DTEND;TZID=Europe/London:20211006T210000
DTSTAMP:20260419T211037
CREATED:20201218T171635Z
LAST-MODIFIED:20210928T144029Z
UID:3642-1633548600-1633554000@mfhs.org.uk
SUMMARY:The Road to Waterloo from a Camp Follower’s Perspective
DESCRIPTION:A talk by Michelle Ward\nBuilding on her eighteen years experience in Napoleonic re-enactment\, Michelle Ward will be giving an illustrated presentation. She will regale us with a fabulous insight into the life and times of a 19th Century woman ‘following the drum’. \nDuring the day\, Michelle is a Copyeditor and Proofreader specialising in History and Biographies. She can be contacted via her website: Brook Language Services. \n\nThe link to the meeting will also be shown here when you’re logged in.
URL:https://mfhs.org.uk/event/the-road-to-waterloo-camp-follower-perspective/
LOCATION:Online
CATEGORIES:Meetings
END:VEVENT
BEGIN:VEVENT
DTSTART;TZID=Europe/London:20210901T193000
DTEND;TZID=Europe/London:20210901T210000
DTSTAMP:20260419T211037
CREATED:20201218T171006Z
LAST-MODIFIED:20210825T094338Z
UID:3619-1630524600-1630530000@mfhs.org.uk
SUMMARY:Lorna Lloyd’s diary and Malvern in WW2
DESCRIPTION:A talk by Faith Renger of Malvern Museum. \nLorna Lloyd lived in Somers Road. This is an account of her recordings of early wartime events in Malvern\, which she started on 1 Sep 1939. The diary is now part of the Museum’s collection. Faith will go on to discuss how Malvern was affected by the influx of people which followed during the war. \n\nThe link to the meeting will also be shown here when you’re logged in.
URL:https://mfhs.org.uk/event/lorna-lloyds-diary-and-malvern-in-ww2/
LOCATION:Online
CATEGORIES:Meetings
END:VEVENT
BEGIN:VEVENT
DTSTART;TZID=Europe/London:20210804T193000
DTEND;TZID=Europe/London:20210804T210000
DTSTAMP:20260419T211037
CREATED:20201218T170756Z
LAST-MODIFIED:20210801T093616Z
UID:3633-1628105400-1628110800@mfhs.org.uk
SUMMARY:Finding a house - or where you you think they were?
DESCRIPTION:A talk by Catherine Banks and Jan Condon about how to find your ancestors’ house. \nThe talk looks at the resources you can use to find out more about where your ancestors lived. It includes examples of houses they have found\, investigations into their history and what it can tell you about your ancestors. \n\nThe link to the meeting will also be shown here when you’re logged in.
URL:https://mfhs.org.uk/event/finding-a-house-or-where-you-you-think-they-were/
LOCATION:Online
CATEGORIES:Meetings
END:VEVENT
BEGIN:VEVENT
DTSTART;TZID=Europe/London:20210707T193000
DTEND;TZID=Europe/London:20210707T210000
DTSTAMP:20260419T211037
CREATED:20201218T170529Z
LAST-MODIFIED:20210707T071105Z
UID:3631-1625686200-1625691600@mfhs.org.uk
SUMMARY:Annual General Meeting 2021
DESCRIPTION:The annual general meeting followed by a short talk from a member. \nThe annual reports will be available in the Members’ Area of the website. \n\nThe link to the meeting will also be shown here when you’re logged in.
URL:https://mfhs.org.uk/event/annual-general-meeting-2021/
LOCATION:Online
CATEGORIES:Meetings
END:VEVENT
BEGIN:VEVENT
DTSTART;TZID=Europe/London:20210602T193000
DTEND;TZID=Europe/London:20210602T210000
DTSTAMP:20260419T211037
CREATED:20201218T170000Z
LAST-MODIFIED:20210519T092618Z
UID:3628-1622662200-1622667600@mfhs.org.uk
SUMMARY:Malvern in a Day- 50 years ago.
DESCRIPTION:In 1970 Michael Dowty\, photographer\, undertook a project to take photographs of  ordinary scenes all over Malvern. The archive of the photographs has recently been catalogued and digitized\, so tonight is a chance to see how much or how little has changed in the town in 50 years. \n \nThe link to the meeting will also be shown here when you’re logged in.
URL:https://mfhs.org.uk/event/malvern-in-a-day-50-years-ago/
LOCATION:Online
CATEGORIES:Meetings
END:VEVENT
BEGIN:VEVENT
DTSTART;TZID=Europe/London:20210505T193000
DTEND;TZID=Europe/London:20210505T210000
DTSTAMP:20260419T211037
CREATED:20201218T165632Z
LAST-MODIFIED:20210429T151258Z
UID:3626-1620243000-1620248400@mfhs.org.uk
SUMMARY:My Criminal Past
DESCRIPTION:A talk by Paul Millington. \n \nThe link to the meeting will also be shown here when you’re logged in.
URL:https://mfhs.org.uk/event/my-criminal-past/
LOCATION:To be decided
CATEGORIES:Meetings
END:VEVENT
BEGIN:VEVENT
DTSTART;TZID=Europe/London:20210407T193000
DTEND;TZID=Europe/London:20210407T210000
DTSTAMP:20260419T211037
CREATED:20201218T165520Z
LAST-MODIFIED:20210118T113341Z
UID:3624-1617823800-1617829200@mfhs.org.uk
SUMMARY:Ripple to Utah
DESCRIPTION:A talk by Michael Wilkshire. \n \nThe link to the meeting will also be shown here when you’re logged in.
URL:https://mfhs.org.uk/event/ripple-to-utah/
LOCATION:To be decided
CATEGORIES:Meetings
END:VEVENT
BEGIN:VEVENT
DTSTART;TZID=Europe/London:20210303T193000
DTEND;TZID=Europe/London:20210303T210000
DTSTAMP:20260419T211037
CREATED:20201218T165333Z
LAST-MODIFIED:20210302T092059Z
UID:3622-1614799800-1614805200@mfhs.org.uk
SUMMARY:Edward Winslow of Droitwich and The Mayflower
DESCRIPTION:Howard Robinson talks about Edward Winslow of Droitwich and his involvement in The Mayflower sailing from Plymouth to the New World. \nHoward devised this talk to coincide with the 400th anniversary last year of the Mayflower’s voyage to the New World. Edward Winslow was born in Droitwich in 1595 and became one of the leading figures among the Pilgrim Fathers. \n \nThe link to the meeting will also be shown here when you’re logged in.
URL:https://mfhs.org.uk/event/edward-winslow-of-droitwich-and-the-mayflower/
LOCATION:Online
CATEGORIES:Meetings
END:VEVENT
BEGIN:VEVENT
DTSTART;TZID=Europe/London:20210203T193000
DTEND;TZID=Europe/London:20210203T210000
DTSTAMP:20260419T211037
CREATED:20201218T165053Z
LAST-MODIFIED:20210118T113239Z
UID:3620-1612380600-1612386000@mfhs.org.uk
SUMMARY:The Earls of Beauchamp and the Lygon Family
DESCRIPTION:Marguerite Collins talks about the Earls of Beauchamp and the Lygon family. These families have owned Madresfield Court\, near Malvern\, since the early Middle Ages. \nMarguerite Collins a Worcester Walks Guide and knows the city well.  Although born in Malvern (10 miles from Worcester)\, Marguerite has spent most of her life in the city of Worcester. She has always been fascinated by the history of the area. I know several local members have visited Madresfield Court in recent times and will already have some idea of the history. \n\nThe link to the meeting will also be shown here when you’re logged in.
URL:https://mfhs.org.uk/event/the-earls-of-beauchamp-and-the-lygon-family/
LOCATION:Online
CATEGORIES:Meetings
END:VEVENT
BEGIN:VEVENT
DTSTART;TZID=Europe/London:20210106T193000
DTEND;TZID=Europe/London:20210106T203000
DTSTAMP:20260419T211037
CREATED:20201218T164541Z
LAST-MODIFIED:20210106T184748Z
UID:3616-1609961400-1609965000@mfhs.org.uk
SUMMARY:Ethical Dilemmas in Genealogy
DESCRIPTION:Penny Walters has taught Psychology to university students for many years. She has carried out extensive research into her own origins from adoption to her Irish roots. She has used DNA to confirm her origins and to explore the cultural heritage of her mixed- race children. Penny has a postgraduate qualification in genealogy from Strathclyde University. She will be appearing in C4’s Genealogy Roadshow. \nEthical dilemmas in genealogy is the title of her book published last year and the subject of her presentation to us. Her paper will be available from the Members Area of our website. There will be lots of food for thought from our first speaker of 2021. \n\nThe link to the meeting will also be shown here when you’re logged in.
URL:https://mfhs.org.uk/event/ethical-dilemmas-in-genealogy/
LOCATION:Online
CATEGORIES:Meetings
END:VEVENT
BEGIN:VEVENT
DTSTART;TZID=Europe/London:20201202T190000
DTEND;TZID=Europe/London:20201202T210000
DTSTAMP:20260419T211037
CREATED:20200207T111246Z
LAST-MODIFIED:20201125T145411Z
UID:3300-1606935600-1606942800@mfhs.org.uk
SUMMARY:Members' Evening
DESCRIPTION:This evening we have presentations from a quartet of members.  It will take place online\, using Zoom. A link to the meeting will be sent in advance to all members. \nThe advantage of Zoom is that some of our quartet are overseas members and it’s lovely to welcome them to our meetings. \n\nThe link to the meeting will also be shown here when you’re logged in.
URL:https://mfhs.org.uk/event/december-2020-members-evening/
LOCATION:Online
CATEGORIES:Meetings
END:VEVENT
BEGIN:VEVENT
DTSTART;TZID=Europe/London:20201104T193000
DTEND;TZID=Europe/London:20201104T210000
DTSTAMP:20260419T211037
CREATED:20190112T114018Z
LAST-MODIFIED:20201030T162410Z
UID:2935-1604518200-1604523600@mfhs.org.uk
SUMMARY:Annual General Meeting 2020
DESCRIPTION:The annual general meeting followed by a short talk from a member. \nThis meeting has been postponed  from July to November due to Covid-19.  It will take place online\, using Zoom. A link to the meeting will be sent in advance to all members. \nThe annual reports are available in the Members’ Area of the website. \n\nThe link to the meeting will also be shown here when you’re logged in.
URL:https://mfhs.org.uk/event/annual-general-meeting-2020/
LOCATION:Online
CATEGORIES:Meetings
END:VEVENT
BEGIN:VEVENT
DTSTART;TZID=Europe/London:20201007T190000
DTEND;TZID=Europe/London:20201007T210000
DTSTAMP:20260419T211037
CREATED:20200207T111057Z
LAST-MODIFIED:20200903T112520Z
UID:3296-1602097200-1602104400@mfhs.org.uk
SUMMARY:Using the 1939 register
DESCRIPTION:An online talk by Paul Millington. \nYou need to be a member to attend this event. \nA link to the talk will be sent in advance to all members by email and will also be shown here when you’re logged in.
URL:https://mfhs.org.uk/event/using-the-1939-register/
LOCATION:Online
CATEGORIES:Meetings
END:VEVENT
BEGIN:VEVENT
DTSTART;TZID=Europe/London:20200902T190000
DTEND;TZID=Europe/London:20200902T210000
DTSTAMP:20260419T211037
CREATED:20200207T111002Z
LAST-MODIFIED:20200819T084759Z
UID:3294-1599073200-1599080400@mfhs.org.uk
SUMMARY:Letters from a Submariner
DESCRIPTION:An online talk by Margaret Roy. \nLetters found in a trunk during a house clearance have led to years of fascinating research and a website. Margaret will explain not only the outcome of the research but the processes and work involved. \nYou need to be a member to attend this event. A link to the talk will be sent in advance to all members.
URL:https://mfhs.org.uk/event/vulcans-temple-the-story-of-soho-foundry/
LOCATION:Online
CATEGORIES:Meetings
END:VEVENT
BEGIN:VEVENT
DTSTART;TZID=Europe/London:20200603T193000
DTEND;TZID=Europe/London:20200603T210000
DTSTAMP:20260419T211037
CREATED:20190112T113912Z
LAST-MODIFIED:20200409T143346Z
UID:2933-1591212600-1591218000@mfhs.org.uk
SUMMARY:A Grandmother's Legacy - CANCELLED
DESCRIPTION:A talk by Jenny Mallin.
URL:https://mfhs.org.uk/event/a-grandmothers-legacy/
LOCATION:Eden Church\, Grovewood Road\, Malvern\, Worcs\, WR14 1GD\, United Kingdom
CATEGORIES:Meetings
END:VEVENT
BEGIN:VEVENT
DTSTART;TZID=Europe/London:20200506T193000
DTEND;TZID=Europe/London:20200506T210000
DTSTAMP:20260419T211037
CREATED:20190112T114317Z
LAST-MODIFIED:20200409T143332Z
UID:2941-1588793400-1588798800@mfhs.org.uk
SUMMARY:Workhouses - CANCELLED
DESCRIPTION:A talk by Richard Churchley.
URL:https://mfhs.org.uk/event/workhouses/
LOCATION:Eden Church\, Grovewood Road\, Malvern\, Worcs\, WR14 1GD\, United Kingdom
CATEGORIES:Meetings
END:VEVENT
BEGIN:VEVENT
DTSTART;TZID=Europe/London:20200401T193000
DTEND;TZID=Europe/London:20200401T210000
DTSTAMP:20260419T211037
CREATED:20190112T113750Z
LAST-MODIFIED:20200318T155330Z
UID:2931-1585769400-1585774800@mfhs.org.uk
SUMMARY:Phrenology - CANCELLED
DESCRIPTION:Victorians believed that the shape of the head could show your character. \nA talk by Louise Robinson. \nTHIS TALK HAS BEEN CANCELLED DUE TO THE CORONAVIRUS RESTRICTIONS.
URL:https://mfhs.org.uk/event/phrenology/
LOCATION:Eden Church\, Grovewood Road\, Malvern\, Worcs\, WR14 1GD\, United Kingdom
CATEGORIES:Meetings
END:VEVENT
BEGIN:VEVENT
DTSTART;TZID=Europe/London:20200304T193000
DTEND;TZID=Europe/London:20200304T210000
DTSTAMP:20260419T211037
CREATED:20190112T113616Z
LAST-MODIFIED:20190112T113616Z
UID:2929-1583350200-1583355600@mfhs.org.uk
SUMMARY:Sentenced beyond the Seas
DESCRIPTION:A talk about the punishment of transportation by David Clark.
URL:https://mfhs.org.uk/event/sentenced-beyond-the-seas/
LOCATION:Eden Church\, Grovewood Road\, Malvern\, Worcs\, WR14 1GD\, United Kingdom
CATEGORIES:Meetings
END:VEVENT
BEGIN:VEVENT
DTSTART;TZID=Europe/London:20200205T193000
DTEND;TZID=Europe/London:20200205T210000
DTSTAMP:20260419T211037
CREATED:20190112T113458Z
LAST-MODIFIED:20190112T113458Z
UID:2927-1580931000-1580936400@mfhs.org.uk
SUMMARY:Going Up Country: Trade on the River Severn and its Canals
DESCRIPTION:A talk by Tony Conder.
URL:https://mfhs.org.uk/event/going-up-country-trade-on-the-river-severn-and-its-canals/
LOCATION:Eden Church\, Grovewood Road\, Malvern\, Worcs\, WR14 1GD\, United Kingdom
CATEGORIES:Meetings
END:VEVENT
BEGIN:VEVENT
DTSTART;TZID=Europe/London:20200108T193000
DTEND;TZID=Europe/London:20200108T210000
DTSTAMP:20260419T211037
CREATED:20190112T114120Z
LAST-MODIFIED:20190112T114140Z
UID:2937-1578511800-1578517200@mfhs.org.uk
SUMMARY:January 2020 Meeting - TBC
DESCRIPTION:Subject/speaker to be confirmed.
URL:https://mfhs.org.uk/event/january-2020-meeting-tbc/
LOCATION:Eden Church\, Grovewood Road\, Malvern\, Worcs\, WR14 1GD\, United Kingdom
CATEGORIES:Meetings
END:VEVENT
BEGIN:VEVENT
DTSTART;TZID=Europe/London:20191204T193000
DTEND;TZID=Europe/London:20191204T210000
DTSTAMP:20260419T211037
CREATED:20190112T113314Z
LAST-MODIFIED:20190112T113314Z
UID:2925-1575487800-1575493200@mfhs.org.uk
SUMMARY:The swinging 60s
DESCRIPTION:A talk by Mike Watkins.
URL:https://mfhs.org.uk/event/the-swinging-60s/
LOCATION:Eden Church\, Grovewood Road\, Malvern\, Worcs\, WR14 1GD\, United Kingdom
CATEGORIES:Meetings
END:VEVENT
BEGIN:VEVENT
DTSTART;TZID=Europe/London:20191106T193000
DTEND;TZID=Europe/London:20191106T210000
DTSTAMP:20260419T211037
CREATED:20190112T113209Z
LAST-MODIFIED:20190910T120827Z
UID:2923-1573068600-1573074000@mfhs.org.uk
SUMMARY:Members' Evening
DESCRIPTION:Talks by three members on aspects of their family history.
URL:https://mfhs.org.uk/event/members-evening-2/
LOCATION:Eden Church\, Grovewood Road\, Malvern\, Worcs\, WR14 1GD\, United Kingdom
CATEGORIES:Meetings
END:VEVENT
BEGIN:VEVENT
DTSTART;TZID=Europe/London:20191002T193000
DTEND;TZID=Europe/London:20191002T210000
DTSTAMP:20260419T211037
CREATED:20190112T113104Z
LAST-MODIFIED:20190112T113104Z
UID:2921-1570044600-1570050000@mfhs.org.uk
SUMMARY:King John
DESCRIPTION:Max Keen returns for another entertaining talk in costume. This time he is King John.
URL:https://mfhs.org.uk/event/king-john/
LOCATION:Eden Church\, Grovewood Road\, Malvern\, Worcs\, WR14 1GD\, United Kingdom
CATEGORIES:Meetings
END:VEVENT
BEGIN:VEVENT
DTSTART;TZID=Europe/London:20190904T193000
DTEND;TZID=Europe/London:20190904T210000
DTSTAMP:20260419T211037
CREATED:20190112T112929Z
LAST-MODIFIED:20190112T112929Z
UID:2919-1567625400-1567630800@mfhs.org.uk
SUMMARY:Travel before the Railways
DESCRIPTION:We welcome back Celia Heritage for a talk on how people travelled around Britain before the railways.
URL:https://mfhs.org.uk/event/travel-before-the-railways/
LOCATION:Eden Church\, Grovewood Road\, Malvern\, Worcs\, WR14 1GD\, United Kingdom
CATEGORIES:Meetings
END:VEVENT
BEGIN:VEVENT
DTSTART;TZID=Europe/London:20190703T193000
DTEND;TZID=Europe/London:20190703T213000
DTSTAMP:20260419T211037
CREATED:20190112T112720Z
LAST-MODIFIED:20190112T114215Z
UID:2917-1562182200-1562189400@mfhs.org.uk
SUMMARY:Annual General Meeting 2019
DESCRIPTION:Our AGM will be followed by a short talk by one of our members.
URL:https://mfhs.org.uk/event/annual-general-meeting-2019/
LOCATION:Eden Church\, Grovewood Road\, Malvern\, Worcs\, WR14 1GD\, United Kingdom
CATEGORIES:Meetings
END:VEVENT
BEGIN:VEVENT
DTSTART;TZID=Europe/London:20190605T193000
DTEND;TZID=Europe/London:20190605T210000
DTSTAMP:20260419T211037
CREATED:20190112T112538Z
LAST-MODIFIED:20190112T112538Z
UID:2915-1559763000-1559768400@mfhs.org.uk
SUMMARY:The making and breaking of marriages\, 1700-1900
DESCRIPTION:The making and breaking of marriages\, 1700-1900 – a talk by Rebecca Probert.
URL:https://mfhs.org.uk/event/the-making-and-breaking-of-marriages-1700-1900/
LOCATION:Eden Church\, Grovewood Road\, Malvern\, Worcs\, WR14 1GD\, United Kingdom
CATEGORIES:Meetings
END:VEVENT
END:VCALENDAR