BEGIN:VCALENDAR
VERSION:2.0
PRODID:-//Malvern Family History Society - ECPv6.15.20//NONSGML v1.0//EN
CALSCALE:GREGORIAN
METHOD:PUBLISH
X-ORIGINAL-URL:https://mfhs.org.uk
X-WR-CALDESC:Events for Malvern Family History Society
REFRESH-INTERVAL;VALUE=DURATION:PT1H
X-Robots-Tag:noindex
X-PUBLISHED-TTL:PT1H
BEGIN:VTIMEZONE
TZID:Europe/London
BEGIN:DAYLIGHT
TZOFFSETFROM:+0000
TZOFFSETTO:+0100
TZNAME:BST
DTSTART:20210328T010000
END:DAYLIGHT
BEGIN:STANDARD
TZOFFSETFROM:+0100
TZOFFSETTO:+0000
TZNAME:GMT
DTSTART:20211031T010000
END:STANDARD
BEGIN:DAYLIGHT
TZOFFSETFROM:+0000
TZOFFSETTO:+0100
TZNAME:BST
DTSTART:20220327T010000
END:DAYLIGHT
BEGIN:STANDARD
TZOFFSETFROM:+0100
TZOFFSETTO:+0000
TZNAME:GMT
DTSTART:20221030T010000
END:STANDARD
BEGIN:DAYLIGHT
TZOFFSETFROM:+0000
TZOFFSETTO:+0100
TZNAME:BST
DTSTART:20230326T010000
END:DAYLIGHT
BEGIN:STANDARD
TZOFFSETFROM:+0100
TZOFFSETTO:+0000
TZNAME:GMT
DTSTART:20231029T010000
END:STANDARD
BEGIN:DAYLIGHT
TZOFFSETFROM:+0000
TZOFFSETTO:+0100
TZNAME:BST
DTSTART:20240331T010000
END:DAYLIGHT
BEGIN:STANDARD
TZOFFSETFROM:+0100
TZOFFSETTO:+0000
TZNAME:GMT
DTSTART:20241027T010000
END:STANDARD
BEGIN:DAYLIGHT
TZOFFSETFROM:+0000
TZOFFSETTO:+0100
TZNAME:BST
DTSTART:20250330T010000
END:DAYLIGHT
BEGIN:STANDARD
TZOFFSETFROM:+0100
TZOFFSETTO:+0000
TZNAME:GMT
DTSTART:20251026T010000
END:STANDARD
BEGIN:DAYLIGHT
TZOFFSETFROM:+0000
TZOFFSETTO:+0100
TZNAME:BST
DTSTART:20260329T010000
END:DAYLIGHT
BEGIN:STANDARD
TZOFFSETFROM:+0100
TZOFFSETTO:+0000
TZNAME:GMT
DTSTART:20261025T010000
END:STANDARD
END:VTIMEZONE
BEGIN:VEVENT
DTSTART;TZID=Europe/London:20250507T193000
DTEND;TZID=Europe/London:20250507T210000
DTSTAMP:20260419T151724
CREATED:20250102T122155Z
LAST-MODIFIED:20250506T092009Z
UID:5617-1746646200-1746651600@mfhs.org.uk
SUMMARY:Irish Ancestors
DESCRIPTION:Speaker: Clare O’Grady \nPlease note the topic and the speaker have changed. Clare has stepped in to give us her talk on finding Irish ancestors. She is a professional genealogist and qualified tutor with over ten years professional experience. She is an associate member of AGRA [Association of Genealogist and Researchers in Archives]. She has a number of talks in her portfolio. \nZoom only \n\nThe link to the meeting will also be shown here when you’re logged in.\n\n\n 
URL:https://mfhs.org.uk/event/irish-ancestors/
LOCATION:Online
CATEGORIES:Meetings
END:VEVENT
BEGIN:VEVENT
DTSTART;TZID=Europe/London:20250402T193000
DTEND;TZID=Europe/London:20250402T210000
DTSTAMP:20260419T151724
CREATED:20250102T121845Z
LAST-MODIFIED:20250327T201335Z
UID:5615-1743622200-1743627600@mfhs.org.uk
SUMMARY:The Story of the Morgan Motor Company
DESCRIPTION:Speaker: Max Hunt \nAt the Eden Centre – IN PERSON ONLY \n\n 
URL:https://mfhs.org.uk/event/the-story-of-the-morgan-motor-company/
LOCATION:Eden Church\, Grovewood Road\, Malvern\, Worcs\, WR14 1GD\, United Kingdom
CATEGORIES:Meetings
END:VEVENT
BEGIN:VEVENT
DTSTART;TZID=Europe/London:20250305T193000
DTEND;TZID=Europe/London:20250305T210000
DTSTAMP:20260419T151724
CREATED:20250102T121230Z
LAST-MODIFIED:20250303T144806Z
UID:5613-1741203000-1741208400@mfhs.org.uk
SUMMARY:Apphia\, Lady Lyttleton
DESCRIPTION:Speaker: Faith Renger \nFaith Renger has written and lectured on various aspects of Malvern’s history and was curator of Malvern Museum for many years. In this talk she looks at the long and extraordinary life of Apphia Witts (1743-1840)\, who became Apphia Peach and then Apphia\, Lady Lyttelton. She was a spirited young woman by all accounts and acquired wealth and a title through an unhappy marriage. Apphia generously supported numerous local good causes in Malvern\, and was especially concerned for the young people of the area. The townspeople owed much to her benevolence. \nBooklets on Apphia\, Lady Lyttelton will be available to buy from Faith at £3 each. Please bring the right change with you. \nAt the Eden Centre and online. \n\nThe link to the meeting will also be shown here when you’re logged in.\n\n\n 
URL:https://mfhs.org.uk/event/apphia-lady-lyttleton/
LOCATION:Eden Church\, Grovewood Road\, Malvern\, Worcs\, WR14 1GD\, United Kingdom
CATEGORIES:Meetings
END:VEVENT
BEGIN:VEVENT
DTSTART;TZID=Europe/London:20250205T193000
DTEND;TZID=Europe/London:20250205T210000
DTSTAMP:20260419T151724
CREATED:20250102T120810Z
LAST-MODIFIED:20250205T190305Z
UID:5608-1738783800-1738789200@mfhs.org.uk
SUMMARY:Rye\, Sheep and Cheese
DESCRIPTION:Speaker: Sally Dickson \nThis talk is about the agricultural changes occurring in Hartlebury between 1500 to 1750 as the switch of the medieval to modern ways of farming happened. \nAt the Eden Centre and online. \n \nLog in to see the link. \n\n\n 
URL:https://mfhs.org.uk/event/rye-sheep-and-cheese/
LOCATION:Eden Church\, Grovewood Road\, Malvern\, Worcs\, WR14 1GD\, United Kingdom
CATEGORIES:Meetings
END:VEVENT
BEGIN:VEVENT
DTSTART;TZID=Europe/London:20250108T193000
DTEND;TZID=Europe/London:20250108T210000
DTSTAMP:20260419T151724
CREATED:20250102T120522Z
LAST-MODIFIED:20250106T120814Z
UID:5606-1736364600-1736370000@mfhs.org.uk
SUMMARY:Dating and Understanding Photographs
DESCRIPTION:Speaker: Steve Gill \nSteve Gill has been a professional photographer for several decades. He is also a qualified photography teacher and a fellow of the Royal Photographic Society. He specialises in restoring photographs and has published four books on photography and family history. \nThis is a Zoom only meeting. \n\nThe link to the meeting will also be shown here when you’re logged in.\n\n\n 
URL:https://mfhs.org.uk/event/dating-and-understanding-photographs/
LOCATION:Online
CATEGORIES:Meetings
END:VEVENT
BEGIN:VEVENT
DTSTART;TZID=Europe/London:20241204T193000
DTEND;TZID=Europe/London:20241204T210000
DTSTAMP:20260419T151724
CREATED:20231107T120756Z
LAST-MODIFIED:20241202T162919Z
UID:5278-1733340600-1733346000@mfhs.org.uk
SUMMARY:Christmas meeting - The Biddulphs of Ledbury
DESCRIPTION:Speaker Dr Mary Stewart \nThis rescheduled talk concentrates on the history of the Biddulph family\, who came to Ledbury in 1688\, when Sir Anthony Biddulph married Constance Hall\, great granddaughter to Edward Skynner. The family was raised to the baronetage in 1834 and has had a long-lasting influence on the town. Mary’s talk will tell us whether the family has lived up to its motto: ‘Let us aim at loftier things’. \nAt the Eden Centre and online. \n\nThe link to the meeting will also be shown here when you’re logged in.\n\n\n 
URL:https://mfhs.org.uk/event/christmas-meeting-the-biddulphs-of-ledbury/
LOCATION:Eden Church\, Grovewood Road\, Malvern\, Worcs\, WR14 1GD\, United Kingdom
CATEGORIES:Meetings
END:VEVENT
BEGIN:VEVENT
DTSTART;TZID=Europe/London:20241106T193000
DTEND;TZID=Europe/London:20241106T210000
DTSTAMP:20260419T151724
CREATED:20231107T120606Z
LAST-MODIFIED:20241104T091900Z
UID:5276-1730921400-1730926800@mfhs.org.uk
SUMMARY:Worcestershire\, from Romans to Victorians
DESCRIPTION:Speaker: Vanessa Morgan \nVanessa Morgan is a researcher\, writer and speaker on local and family history. She has lived in Worcestershire all her life. This evening’s talk complements her book The Little History of Worcestershire (The History Press\, 2023). \nPlease note this talk is not illustrated. \nBefore the main event\, Paul Millington will provide a ten-minute introduction to Electoral Registers. \nAt the Eden Centre and online. \n\nThe link to the meeting will also be shown here when you’re logged in.\n\n\n 
URL:https://mfhs.org.uk/event/worcestershire/
LOCATION:Eden Church\, Grovewood Road\, Malvern\, Worcs\, WR14 1GD\, United Kingdom
CATEGORIES:Meetings
END:VEVENT
BEGIN:VEVENT
DTSTART;TZID=Europe/London:20241002T193000
DTEND;TZID=Europe/London:20241002T210000
DTSTAMP:20260419T151724
CREATED:20231107T120207Z
LAST-MODIFIED:20240930T112710Z
UID:5274-1727897400-1727902800@mfhs.org.uk
SUMMARY:My Grandfather's Second World War
DESCRIPTION:Speaker: Katharine Harris \nThe story of her grandfather exploits during Second World War. Katharine is a member of MFHS. \nAt the Eden Centre and online. \n\nThe link to the meeting will also be shown here when you’re logged in.\n\n\n 
URL:https://mfhs.org.uk/event/my-grandfathers-second-world-war/
LOCATION:Eden Church\, Grovewood Road\, Malvern\, Worcs\, WR14 1GD\, United Kingdom
CATEGORIES:Meetings
END:VEVENT
BEGIN:VEVENT
DTSTART;TZID=Europe/London:20240904T193000
DTEND;TZID=Europe/London:20240904T210000
DTSTAMP:20260419T151724
CREATED:20231107T115834Z
LAST-MODIFIED:20240902T095345Z
UID:5272-1725478200-1725483600@mfhs.org.uk
SUMMARY:The Biddulphs of Ledbury
DESCRIPTION:Speaker: Mary Stewart \nThe Biddulphs came to Ledbury in 1688\, when Sir Anthony Biddulph married Constance Hall\, great granddaughter to Edward Skynner. The family was raised to the baronetage in 1834 and has had a long-lasting influence on the town. Mary Stewart’s talk will tell us whether the family has lived up to its motto: “Let us aim at loftier things”. \nAt the Eden Centre and online. \n\nThe link to the meeting will also be shown here when you’re logged in.\n\n\n 
URL:https://mfhs.org.uk/event/the-biddulphs-of-ledbury/
LOCATION:Eden Church\, Grovewood Road\, Malvern\, Worcs\, WR14 1GD\, United Kingdom
CATEGORIES:Meetings
END:VEVENT
BEGIN:VEVENT
DTSTART;TZID=Europe/London:20240807T193000
DTEND;TZID=Europe/London:20240807T210000
DTSTAMP:20260419T151724
CREATED:20231107T113909Z
LAST-MODIFIED:20240807T150314Z
UID:5270-1723059000-1723064400@mfhs.org.uk
SUMMARY:Finding My Grandad's Global Family
DESCRIPTION:Speaker: Ben Nicholls \nBen says: \nWhen\, at the age of 24\, I discovered that my grandad had four children by three different women over a period of 40 years\, I felt a mission coming on! I had always known my dad and had heard about Uncle Bob\, but the other two were a complete mystery to me. \nWithout know their names\, I embarked on a seemingly impossible quest to trace them and their descendants. It was a quest that took me to the other side of the world and in which fact is stranger than fiction. \nWe will now learn about this story. \nAt the Eden Centre and online. \n\nThe link to the meeting will also be shown here when you’re logged in.\n\n\n 
URL:https://mfhs.org.uk/event/finding-my-grandads-global-family/
LOCATION:Eden Church\, Grovewood Road\, Malvern\, Worcs\, WR14 1GD\, United Kingdom
CATEGORIES:Meetings
END:VEVENT
BEGIN:VEVENT
DTSTART;TZID=Europe/London:20240703T193000
DTEND;TZID=Europe/London:20240703T210000
DTSTAMP:20260419T151724
CREATED:20231107T112959Z
LAST-MODIFIED:20240620T153305Z
UID:5268-1720035000-1720040400@mfhs.org.uk
SUMMARY:AGM followed by a talk
DESCRIPTION:Our AGM followed by a short talk. \nThis meeting is taking place both in-person\, at the Eden Church in Malvern\, and on Zoom. \n \nTo come to the meeting online\nThe link to the meeting will also be shown here when you’re logged in.
URL:https://mfhs.org.uk/event/agm-followed-by-a-talk/
LOCATION:Eden Church\, Grovewood Road\, Malvern\, Worcs\, WR14 1GD\, United Kingdom
CATEGORIES:Meetings
END:VEVENT
BEGIN:VEVENT
DTSTART;TZID=Europe/London:20240605T193000
DTEND;TZID=Europe/London:20240605T210000
DTSTAMP:20260419T151724
CREATED:20231107T112504Z
LAST-MODIFIED:20240603T081306Z
UID:5265-1717615800-1717621200@mfhs.org.uk
SUMMARY:Attitudes to Babies and Bastards in late 18th and early 19th Centuries
DESCRIPTION:Speaker: Yvonne Chapman \nYvonne will talk about attitudes to babies and bastards in the late 18th and early 19th Centuries\, specifically in the Parish of Allensmore. She will likely cover: \n\nBaptism records: numbers including how many categorised as natural born / accuracy of & gaps in the records\nDeath records: infant / early mortality\nRole of the parish in caring for both the poor and bastards: bastardy bond examples in Allensmore / removal of bastards to their original parish / Allensmore outsources its poor relief in 1780 & the contract has clauses relating to the infant poor / pregnant single women\nChurch wardens’ presentments & accounts: e.g. evidence of paying for coffins/ shrouds for poor children\nCoroner’s records: e.g. infanticide / still-birth\nThe Pateshall Family: compare/contrast with gentry attitudes; ensuring a succession; Edmund Burnam Pateshall and his layette pincushion (now in V&A) [the story of how I tracked down Edmund’s portrait to Scarborough is also interesting in terms of sources to use] ; the ‘baby in the basket’ story/evidence who Edmund brings up as his protégé; Edmund and his wife’s attitudes to pregnant servants/bastardy through their own letters\n\nAt the Eden Centre and online. \n\nThe link to the meeting will also be shown here when you’re logged in.\n\n\n 
URL:https://mfhs.org.uk/event/attitudes-to-babies-and-bastards-in-late-18th-and-early-19th-centuries/
LOCATION:Eden Church\, Grovewood Road\, Malvern\, Worcs\, WR14 1GD\, United Kingdom
CATEGORIES:Meetings
END:VEVENT
BEGIN:VEVENT
DTSTART;TZID=Europe/London:20240501T193000
DTEND;TZID=Europe/London:20240501T210000
DTSTAMP:20260419T151724
CREATED:20231107T111151Z
LAST-MODIFIED:20240501T083913Z
UID:5263-1714591800-1714597200@mfhs.org.uk
SUMMARY:Palaeography
DESCRIPTION:Speaker: Rhys Griffith \nRhys is the Senior Archivist at the Herefordshire Archives and Records Centre. He will guide us and test our skills at reading old handwriting. \nAt the Eden Centre and online. \n\nThe link to the meeting will also be shown here when you’re logged in.\n\n\n 
URL:https://mfhs.org.uk/event/palaeography/
LOCATION:Eden Church\, Grovewood Road\, Malvern\, Worcs\, WR14 1GD\, United Kingdom
CATEGORIES:Meetings
END:VEVENT
BEGIN:VEVENT
DTSTART;TZID=Europe/London:20240403T193000
DTEND;TZID=Europe/London:20240403T210000
DTSTAMP:20260419T151724
CREATED:20231107T110745Z
LAST-MODIFIED:20240402T080516Z
UID:5260-1712172600-1712178000@mfhs.org.uk
SUMMARY:Operation Canonbury - a Bullock Family Connection
DESCRIPTION:Speaker: Phil Bullock \nIn April and May 1942 no. 218 squadron undertook Operation Canonbury\, the bombing of the Skoda armaments factory at Pilsen in German-occupied Czechoslovakia. Phil Bullock will talk about his family connection to this difficult and dangerous mission. \nThis will be preceded by Paul Millington: Introduction to parish registers (part 2). \nAt the Eden Centre and online. \n\nThe link to the meeting will also be shown here when you’re logged in.\n\n\n 
URL:https://mfhs.org.uk/event/operation-canonbury-a-bullock-family-connection/
LOCATION:Eden Church\, Grovewood Road\, Malvern\, Worcs\, WR14 1GD\, United Kingdom
CATEGORIES:Meetings
END:VEVENT
BEGIN:VEVENT
DTSTART;TZID=Europe/London:20240306T193000
DTEND;TZID=Europe/London:20240306T210000
DTSTAMP:20260419T151724
CREATED:20231107T110306Z
LAST-MODIFIED:20240227T153753Z
UID:5258-1709753400-1709758800@mfhs.org.uk
SUMMARY:Powick Hospital in World War I
DESCRIPTION:Speaker: Sarah Dentith \nSarah will present the results of her research on the patients at Powick Hospital during the First World War\, focusing on local soldiers returning to the area after active service and civilians impacted by the war in some way. \nThis research formed part of Sarah’s masters degree in local history from the University of Birmingham. Sarah works at The Hive as a library customer advisor and as an archive assistant with Worcestershire Archive and Archaeology Service. She has previously worked as a volunteer and researcher for the George Marshall Medical Museum and project officer for The Infirmary Museum\, both in Worcester. \nCome along and learn about a subject not widely known. \nNote this is a change from the published programme. \nSarah’s talk will be preceded by a brief introduction to parish registers by Paul Millington. \nAt the Eden Centre and online. \n\nThe link to the meeting will also be shown here when you’re logged in.\n\n\n 
URL:https://mfhs.org.uk/event/powick-hospital-ww1/
LOCATION:Eden Church\, Grovewood Road\, Malvern\, Worcs\, WR14 1GD\, United Kingdom
CATEGORIES:Meetings
END:VEVENT
BEGIN:VEVENT
DTSTART;TZID=Europe/London:20240207T193000
DTEND;TZID=Europe/London:20240207T210000
DTSTAMP:20260419T151724
CREATED:20231107T105737Z
LAST-MODIFIED:20240206T092547Z
UID:5254-1707334200-1707339600@mfhs.org.uk
SUMMARY:Art History
DESCRIPTION:Speaker: Jasmine Kee \nThis is something slightly different from our normal talks\, which we hope you will enjoy. Jasmine will give a talk on art history in general\, covering the different styles\, movements and time-periods associated with painting\, drawing and sculpture. She will also explore J M W Turner’s connection to Worcestershire and Paul Nash’s landscapes of the Malvern hills. \nJasmine is an archivist at The Hive. She has 7 years’ experience working with customers across the Museum and Gallery sector. Passionate about art and history she previously worked at Tate and as a Curatorial Assistant at Central Saint Martins’ Museum & Study Collection in London – first working in their archives as a volunteer while studying History of Art. In 2019\, she gained a master’s degree in Curating and Collections from Chelsea College of Arts. \nThis talk will be preceded by a ten-minute talk on Wills after 1858 given by Paul Millington. \nAt the Eden Centre and online. \n\nThe link to the meeting will also be shown here when you’re logged in.\n\n\n 
URL:https://mfhs.org.uk/event/art-history/
LOCATION:Eden Church\, Grovewood Road\, Malvern\, Worcs\, WR14 1GD\, United Kingdom
CATEGORIES:Meetings
END:VEVENT
BEGIN:VEVENT
DTSTART;TZID=Europe/London:20240103T193000
DTEND;TZID=Europe/London:20240103T210000
DTSTAMP:20260419T151724
CREATED:20231107T105203Z
LAST-MODIFIED:20240101T114217Z
UID:5252-1704310200-1704315600@mfhs.org.uk
SUMMARY:Researching criminal children [Zoom only]
DESCRIPTION:Speaker: Linda Hammond \nLinda has 35 years’ experience in genealogical research with private individuals and companies.  Currently a tutor at the University of Strathclyde.  Her Masters dissertation studied how juvenile crime was related to poverty. \nAt our January meeting Linda will guide us through the process of researching criminal children. \nShe is based in France\, so this is a Zoom only meeting. \n\nThe link to the meeting will also be shown here when you’re logged in.\n\n\n 
URL:https://mfhs.org.uk/event/researching-criminal-children-zoom-only/
LOCATION:Online
CATEGORIES:Meetings
END:VEVENT
BEGIN:VEVENT
DTSTART;TZID=Europe/London:20231206T193000
DTEND;TZID=Europe/London:20231206T210000
DTSTAMP:20260419T151724
CREATED:20231030T092423Z
LAST-MODIFIED:20231030T092423Z
UID:5245-1701891000-1701896400@mfhs.org.uk
SUMMARY:Family History Question Time
DESCRIPTION:Our Christmas meeting will take the form of a panel in the form of Gardeners’ Question Time. It will be available to members in the hall only (i.e. no Zoom). \nIf you have questions you would like answered\, please submit them in advance to our chairman. \n 
URL:https://mfhs.org.uk/event/family-history-question-time/
LOCATION:Eden Church\, Grovewood Road\, Malvern\, Worcs\, WR14 1GD\, United Kingdom
CATEGORIES:Meetings
END:VEVENT
BEGIN:VEVENT
DTSTART;TZID=Europe/London:20231101T193000
DTEND;TZID=Europe/London:20231101T210000
DTSTAMP:20260419T151724
CREATED:20221121T162409Z
LAST-MODIFIED:20231030T092512Z
UID:4805-1698867000-1698872400@mfhs.org.uk
SUMMARY:Birmingham’s Back-to-Backs
DESCRIPTION:Many of you will have heard of the National Trust’s restoration of a court of 19th century back to back houses in Hurst Street\, Birmingham\, which are open to visitors. These were small dwellings arranged around a courtyard or in terraces\, each of which shared at least one wall with another house. Typically\, only the front of each house had a door and windows. The inhabitants of several houses shared a water pump and outdoor toilet facilities. Such houses were commonplace in central Birmingham but almost all were swept away in the slum clearances of the 1960s. Clive Katz will talk to us about the lives of the people who lived in the NT houses in four periods: the 1840s\, 1870s\, 1930s and 1970s. \nNote the speaker is different from those originally advertised. \nAt the Eden Centre and online. \n\nThe link to the meeting will also be shown here when you’re logged in.
URL:https://mfhs.org.uk/event/birminghams-back-to-backs/
LOCATION:Eden Church\, Grovewood Road\, Malvern\, Worcs\, WR14 1GD\, United Kingdom
CATEGORIES:Meetings
END:VEVENT
BEGIN:VEVENT
DTSTART;TZID=Europe/London:20231004T193000
DTEND;TZID=Europe/London:20231004T210000
DTSTAMP:20260419T151724
CREATED:20221121T162227Z
LAST-MODIFIED:20231002T083422Z
UID:4803-1696447800-1696453200@mfhs.org.uk
SUMMARY:My Churchley family
DESCRIPTION:My Churchley family: a talk by Richard Churchley. \nDr Richard Churchley is a professional speaker and local and family historian who specialises in Worcestershire\, Warwickshire and North Gloucestershire. He has researched the history of Sambourne\, changing occupational structures in the rural areas around Redditch and Alcester\, local pubs and needlemaking\, amongst other things. He gives talks on a variety of historical topics\, which you can see listed on his website. In this meeting he will focus on the story of his own family. Please note that this talk is not illustrated. \nBefore Richard starts\, Paul Millington will give a 10-minute presentation called ‘Accessing the Census’. \nAt the Eden Centre and online. \n\nThe link to the meeting will also be shown here when you’re logged in.
URL:https://mfhs.org.uk/event/my-churchley-family/
LOCATION:Eden Church\, Grovewood Road\, Malvern\, Worcs\, WR14 1GD\, United Kingdom
CATEGORIES:Meetings
END:VEVENT
BEGIN:VEVENT
DTSTART;TZID=Europe/London:20230906T193000
DTEND;TZID=Europe/London:20230906T210000
DTSTAMP:20260419T151724
CREATED:20221121T161955Z
LAST-MODIFIED:20230905T102234Z
UID:4801-1694028600-1694034000@mfhs.org.uk
SUMMARY:Boffins came to Malvern
DESCRIPTION:A talk about the scientists (Boffins) who came to Malvern during the second world war by John Gillham\, a driving force behind Malvern Radar & Technology History Society. \nAt the Eden Centre and online. \n\nThe link to the meeting will also be shown here when you’re logged in.
URL:https://mfhs.org.uk/event/boffins-came-to-malvern/
LOCATION:Eden Church\, Grovewood Road\, Malvern\, Worcs\, WR14 1GD\, United Kingdom
CATEGORIES:Meetings
END:VEVENT
BEGIN:VEVENT
DTSTART;TZID=Europe/London:20230802T193000
DTEND;TZID=Europe/London:20230802T210000
DTSTAMP:20260419T151724
CREATED:20221121T161742Z
LAST-MODIFIED:20230801T153444Z
UID:4799-1691004600-1691010000@mfhs.org.uk
SUMMARY:Displaying family history
DESCRIPTION:We all know how easy it is to make a hash of displaying our family tree. Fortunately we have and expert in our midst. David Hobro\, one of our members\, is a professional and will give us some background to the art and tells us how it can be done successfully. \nAt the Eden Centre and online. \n\nThe link to the meeting will also be shown here when you’re logged in.
URL:https://mfhs.org.uk/event/displaying-family-history/
LOCATION:Eden Church\, Grovewood Road\, Malvern\, Worcs\, WR14 1GD\, United Kingdom
CATEGORIES:Meetings
END:VEVENT
BEGIN:VEVENT
DTSTART;TZID=Europe/London:20230705T193000
DTEND;TZID=Europe/London:20230705T210000
DTSTAMP:20260419T151724
CREATED:20221121T161512Z
LAST-MODIFIED:20230705T092247Z
UID:4797-1688585400-1688590800@mfhs.org.uk
SUMMARY:AGM followed by Members' Experiences of the 1921 census
DESCRIPTION:AGM followed by members sharing their experiences of using the 1921 census. \nAt the Eden Centre and online. \n\nThe link to the meeting will also be shown here when you’re logged in.
URL:https://mfhs.org.uk/event/agm-followed-by-members-experiences-1921/
LOCATION:Eden Church\, Grovewood Road\, Malvern\, Worcs\, WR14 1GD\, United Kingdom
CATEGORIES:Meetings
END:VEVENT
BEGIN:VEVENT
DTSTART;TZID=Europe/London:20230607T193000
DTEND;TZID=Europe/London:20230607T210000
DTSTAMP:20260419T151724
CREATED:20221121T125247Z
LAST-MODIFIED:20230605T114640Z
UID:4795-1686166200-1686171600@mfhs.org.uk
SUMMARY:Malvern's Water Cure
DESCRIPTION:Cora Weaver will talk about the ‘water cure’ that stimulated Malvern’s growth and popularity as a health resort and tourist destination during the 19th century. \nIf you normally have a paper copy of Tree Tappers you will be able to collect the summer edition at the meeting. \nAt the Eden Centre and online. \n\nThe link to the meeting will also be shown here when you’re logged in.
URL:https://mfhs.org.uk/event/to-be-announced/
LOCATION:Eden Church\, Grovewood Road\, Malvern\, Worcs\, WR14 1GD\, United Kingdom
CATEGORIES:Meetings
END:VEVENT
BEGIN:VEVENT
DTSTART;TZID=Europe/London:20230503T193000
DTEND;TZID=Europe/London:20230503T210000
DTSTAMP:20260419T151724
CREATED:20221121T125027Z
LAST-MODIFIED:20230307T151244Z
UID:4792-1683142200-1683147600@mfhs.org.uk
SUMMARY:Worcestershire remembered: 19th century city and rural life
DESCRIPTION:Ray Sturdy will look at life in Worcester and the surrounding countryside during the 19th century. \nThis meeting is in-person only – at the Eden Centre.
URL:https://mfhs.org.uk/event/worcestershire-remembered-19th-century-city-and-rural-life/
LOCATION:Eden Church\, Grovewood Road\, Malvern\, Worcs\, WR14 1GD\, United Kingdom
CATEGORIES:Meetings
END:VEVENT
BEGIN:VEVENT
DTSTART;TZID=Europe/London:20230405T193000
DTEND;TZID=Europe/London:20230405T210000
DTSTAMP:20260419T151724
CREATED:20221121T124827Z
LAST-MODIFIED:20230215T104619Z
UID:4790-1680723000-1680728400@mfhs.org.uk
SUMMARY:My favourite photograph: How the subjects were identified
DESCRIPTION:A members evening to illustrate family-history research in action.  There will be a series of short talks by members about favourite or important photographs or how people in them were identified. \nIf you are a member and have a photo that you would like to talk about\, please contact the programme coordinator. \nAt the Eden Centre and online. \n\nThe link to the meeting will also be shown here when you’re logged in.
URL:https://mfhs.org.uk/event/my-favourite-photograph-how-the-subjects-were-identified/
LOCATION:Eden Church\, Grovewood Road\, Malvern\, Worcs\, WR14 1GD\, United Kingdom
CATEGORIES:Meetings
END:VEVENT
BEGIN:VEVENT
DTSTART;TZID=Europe/London:20230301T193000
DTEND;TZID=Europe/London:20230301T210000
DTSTAMP:20260419T151724
CREATED:20221121T124548Z
LAST-MODIFIED:20230215T104316Z
UID:4788-1677699000-1677704400@mfhs.org.uk
SUMMARY:Voices of the past: the origins and meanings of local place names
DESCRIPTION:Mike Jenkins will explore the origins and meanings of local place names. \nMike is a retired medical doctor and amateur historian. He has been interested in the forms and diversity of place names for many years on encountering such Worcestershire villages as Upton Snodsbury\, Wyre Piddle\, Timberhonger Lane and The Vigo. \nHe was due to give a talk on place names to the Hanbury History Group in March 2020 but was beaten four days before by The Lockdown! He thus started to write and publish his book ‘The History of Place Names in England and Worcestershire – The Voices of the Past’\, which has sold over 450 copies in the county to date and more on the internet. \nAt the Eden Centre and online. \n\nThe link to the meeting will also be shown here when you’re logged in.
URL:https://mfhs.org.uk/event/voices-of-the-past-the-origins-and-meanings-of-local-place-names/
LOCATION:Eden Church\, Grovewood Road\, Malvern\, Worcs\, WR14 1GD\, United Kingdom
CATEGORIES:Meetings
END:VEVENT
BEGIN:VEVENT
DTSTART;TZID=Europe/London:20230201T193000
DTEND;TZID=Europe/London:20230201T210000
DTSTAMP:20260419T151724
CREATED:20221121T124233Z
LAST-MODIFIED:20230128T102555Z
UID:4785-1675279800-1675285200@mfhs.org.uk
SUMMARY:The Dorvilles of Graham Road\, Malvern
DESCRIPTION:A talk by Faith Renger and Anne Backhouse from Malvern Museum. \nAt the Eden Centre and online. \n\nThe link to the meeting will also be shown here when you’re logged in.
URL:https://mfhs.org.uk/event/the-dorvilles-of-graham-road-malvern/
LOCATION:Eden Church\, Grovewood Road\, Malvern\, Worcs\, WR14 1GD\, United Kingdom
CATEGORIES:Meetings
END:VEVENT
BEGIN:VEVENT
DTSTART;TZID=Europe/London:20230104T193000
DTEND;TZID=Europe/London:20230104T210000
DTSTAMP:20260419T151724
CREATED:20221121T123919Z
LAST-MODIFIED:20230102T193955Z
UID:4782-1672860600-1672866000@mfhs.org.uk
SUMMARY:A Short History of Malvern Hospitals
DESCRIPTION:A talk by Jan Condon\, programme secretary for MFHS. \nThere have been hospitals in Malvern since the Middle Ages. Jan will tell us the history and whereabouts of these. \nAt the Eden Centre and online. \n\nThe link to the meeting will also be shown here when you’re logged in.
URL:https://mfhs.org.uk/event/short-history-of-malvern-hospitals/
LOCATION:Eden Church\, Grovewood Road\, Malvern\, Worcs\, WR14 1GD\, United Kingdom
CATEGORIES:Meetings
END:VEVENT
BEGIN:VEVENT
DTSTART;TZID=Europe/London:20221207T193000
DTEND;TZID=Europe/London:20221207T210000
DTSTAMP:20260419T151724
CREATED:20221121T123411Z
LAST-MODIFIED:20221121T123539Z
UID:4779-1670441400-1670446800@mfhs.org.uk
SUMMARY:Christmas Quiz
DESCRIPTION:A quiz on Christmas\, family history\, Worcestershire and other related topics \nAt the Eden Centre and online. \n\nThe link to the meeting will also be shown here when you’re logged in.
URL:https://mfhs.org.uk/event/christmas-quiz/
LOCATION:Eden Church\, Grovewood Road\, Malvern\, Worcs\, WR14 1GD\, United Kingdom
CATEGORIES:Meetings
END:VEVENT
END:VCALENDAR